BEGIN:VCALENDAR
VERSION:2.0
PRODID:-//Agenda Alternativ e.V. - ECPv6.15.20//NONSGML v1.0//EN
CALSCALE:GREGORIAN
METHOD:PUBLISH
X-WR-CALNAME:Agenda Alternativ e.V.
X-ORIGINAL-URL:https://www.agenda-alternativ.de
X-WR-CALDESC:Veranstaltungen für Agenda Alternativ e.V.
REFRESH-INTERVAL;VALUE=DURATION:PT1H
X-Robots-Tag:noindex
X-PUBLISHED-TTL:PT1H
BEGIN:VTIMEZONE
TZID:Europe/Helsinki
BEGIN:DAYLIGHT
TZOFFSETFROM:+0200
TZOFFSETTO:+0300
TZNAME:EEST
DTSTART:20240331T010000
END:DAYLIGHT
BEGIN:STANDARD
TZOFFSETFROM:+0300
TZOFFSETTO:+0200
TZNAME:EET
DTSTART:20241027T010000
END:STANDARD
BEGIN:DAYLIGHT
TZOFFSETFROM:+0200
TZOFFSETTO:+0300
TZNAME:EEST
DTSTART:20250330T010000
END:DAYLIGHT
BEGIN:STANDARD
TZOFFSETFROM:+0300
TZOFFSETTO:+0200
TZNAME:EET
DTSTART:20251026T010000
END:STANDARD
BEGIN:DAYLIGHT
TZOFFSETFROM:+0200
TZOFFSETTO:+0300
TZNAME:EEST
DTSTART:20260329T010000
END:DAYLIGHT
BEGIN:STANDARD
TZOFFSETFROM:+0300
TZOFFSETTO:+0200
TZNAME:EET
DTSTART:20261025T010000
END:STANDARD
END:VTIMEZONE
BEGIN:VEVENT
DTSTART;TZID=Europe/Helsinki:20250906T100000
DTEND;TZID=Europe/Helsinki:20250906T170000
DTSTAMP:20260421T015203
CREATED:20250812T061220Z
LAST-MODIFIED:20250812T061220Z
UID:2099-1757152800-1757178000@www.agenda-alternativ.de
SUMMARY:Workshop: Handlungs- und Argumentationsstrategien gegen Menschenfeindlichkeit
DESCRIPTION:Dir fehlen die Worte\, wenn du rassistische oder andere menschenfeindliche Kommentare hörst? Dann markiere dir den 06.09. im Kalender für einen Workshop\, der ganz basic zeigt\, wie wir (besser) damit umgehen können. \nAnmeldung unter agenda.alternativ@gmail.com \nVorurteile\, Diskriminierung und Demokratiefeindlichkeit können uns überall begegnen – auf der Arbeit\, im Sportverein\, im Stadtviertel oder in der eigenen Familie. Oft werden ganze Bevölkerungsgruppen in ein schlechtes Licht gerückt. Dann wird zum Beispiel pauschal allen Menschen\, die aus ihrem\nHeimatland geflohen sind oder allen Muslimen unterstellt\, es ginge eine Bedrohung von ihnen aus. Auch Menschen die sich für Demokratie und Menschenrechte\nengagieren\, sehen sich oft Anfeindungen ausgesetzt. \nIm Workshop werden wir uns damit befassen mit welchen Strategien wir solchen\nVerhaltensweisen begegnen können. Wir werden uns austauschen\, was wir diesen Debatten entgegensetzen können\, unter welchen Bedingungen wir mit Einzelpersonen ins Gespräch kommen können – und wann nicht.\nWir werden Handlungs- und Argumentationsstrategien vorstellen. Zudem werden wir mit praktischen Übungen gemeinsam Handlungsoptionen für Situationen aus Ihrem Alltag erarbeiten. \nEs gilt die Ausschlussklausel:\nAusgeschlossen von der Veranstaltung sind Personen\, die neonazistischen Parteien oder Organisationen angehören\, der neonazistischen Szene zuzuordnen sind oder bereits in der Vergangenheit durch rassistische\, nationalistische\, antisemitische oder sonstige menschenverachtenden Äußerungen in Erscheinung getreten sind. Die Veranstaltenden behalten sich vor\, von ihrem Hausrecht Gebrauch zu machen und diesen Personen den Zutritt zur Veranstaltung zu verwehren oder sie von dieser zu verweisen.
URL:https://www.agenda-alternativ.de/event/workshop-handlungs-und-argumentationsstrategien-gegen-menschenfeindlichkeit/
LOCATION:Kompetenzzentrum für Gemeinwesenarbeit und Engagement e.V.\, Bahnhofstraße 13\, Aue\, Sachsen\, 08280\, Deutschland
ATTACH;FMTTYPE=image/jpeg:https://www.agenda-alternativ.de/wp-content/uploads/2025/08/argu-training-2025.jpg
ORGANIZER;CN="Agenda Alternativ e.V.":MAILTO:agenda.alternativ@gmail.com
END:VEVENT
END:VCALENDAR